Workbook

Sheet 1 valgiaraštis 
A1: Darbuotojai | B1: Grupės | F1: 12 val. | G1: 12 val. | H1: 4 val. | I1: 4 val. | J1: 12 val. | N1: Vilniaus lopšelis-darželis "__________________"
A2: žmonių skaičius | F2: 101 | G2: 102 | H2: 109 | I2: 110 | J2: 134 | M2: VALGIARAŠTIS (REIKALAVIMAS) Nr. 2022_____ | V2: Direktorė ____________
B3: Žmonių skaičius | P3: maisto produktams išduoti | V3: A. V. | Y3: (parašas)
A4: 1.8 | B4: Vaikadienio planinė vertė | F4: 2.2 | G4: 2.5 | H4: 1.7 | I4: 1.9 | J4: 3.17 | M4: 2022 m. ___________________ mėn. ______ d. | V4: 2022 m. ____________________ mėn. ______ d.
B5: Suma | F5: =+F4*F3 -> 0 | G5: =+G4*G3 -> 0 | H5: =+H4*H3 -> 0 | I5: =+I4*I3 -> 0 | J5: =+J4*J3 -> 0 | M5: Vaikų skaičius paramai gauti:
A7: Produktų pavadinimas | B7: Mato vnt. | C7: Pusryčiai | H7: Produktų kiekis maistui pagaminti | N7: Pietūs | V7: Vakarienė | Y7: Nomen-klatūrinis numeris | Z7: Operacija
Z8: 51 | AA8: 56
Z9: Išlaidų kodas
Z11: vaikams | AA11: personalui
A12: 1 | B12: 2 | C12: 3 | D12: 4 | E12: 5 | F12: 6 | G12: 7 | H12: 8 | I12: 9 | J12: 10 | K12: 11 | L12: 12 | M12: 13 | N12: 14 | O12: 15 | Q12: 16 | R12: 17 | S12: 18 | T12: 19 | U12: 20 | V12: 21 | W12: 22 | X12: 23 | Y12: 24 | Z12: 25 | AA12: 26
A13: Porcijų skaičius
A14: Išeiga porc. svoris...
A15: Jautiena | B15: kg | Y15: 610001
A16: Kiauliena | B16: kg | Y16: 610002
A17: Veršiena | B17: kg | Y17: 610003
A18: Paukštiena | B18: kg | Y18: 610009
A19: Sub,prod. | B19: kg | Y19: 610024
A20: Koldūnai | B20: kg | Y20: 610035
A21: Virta dešra | B21: kg | Y21: 610036
A22: Rūkyta dešra | B22: kg | Y22: 610037
A23: Dešrelės | B23: kg | Y23: 610052
A24: Aukštaičių kepsnys | B24: kg | Y24: 610068
A25: Žuvis | B25: kg | Y25: 611008
A26: Krabu lazdeles | B26: kg | Y26: 611010
... A163: Actas | B163: kg | Y163: 616054
B166: Dietologas Vardenis Pavardenis | J166: Produktus išdavė sandėlininkė Vardenė Pavardenė | T166: Produktus priėmė virėja Vardenė Pavardenė

Sheet 2 valgiaraštis PVZ (1 diena)
A1: Darbuotojai | B1: Grupės | F1: 12 val. | G1: 12 val. | H1: 4 val. | I1: 4 val. | J1: 12 val. | N1: Vilniaus lopšelis-darželis "__________________"
A2: žmonių skaičius | F2: 101 | G2: 102 | H2: 109 | I2: 110 | J2: 134 | M2: VALGIARAŠTIS (REIKALAVIMAS) Nr. 2022_____ | W2: Direktorė ____________ | AA2: Vardenė Pavardenė
A3: 14 | B3: Žmonių skaičius | F3: 20 | G3: 81 | H3: 0 | I3: 0 | J3: 2 | P3: maisto produktams išduoti | W3: A. V. | Y3: (parašas)
A4: 1.8 | B4: Vaikadienio planinė vertė | F4: 2.2 | G4: 2.5 | H4: 1.7 | I4: 1.9 | J4: 3.17 | M4: 2022 m. | O4: sausio | R4: mėn. | S4: 1 | T4: d. | W4: 2022 m. | Y4: =+O4 -> sausio | AA4: mėn. | AB4: =+S4 -> 1 | AC4: d.
B5: Suma | F5: =+F4*F3 -> 44 | G5: =+G4*G3 -> 202.5 | H5: =+H4*H3 -> 0 | I5: =+I4*I3 -> 0 | J5: =+J4*J3 -> 6.34 | K5: =+K4*K3 -> 0 | L5: =+L4*L3 -> 0 | M5: Vaikų skaičius paramai gauti: | Q5: =+SUM(F3:L3) -> 103
B6: Iš viso per mėnesį vaikadienių
A7: Produktų pavadinimas | B7: Mato vnt. | C7: Pusryčiai | I7: Pietūs | T7: Vakarienė | AB7: Nomenklatūrinis numeris | AC7: kiekis viso
C8: Grikių kruopų košė su sviestu | D8: Arbata su citrina | E8: Sausainiai | F8: =C8 -> Grikių kruopų košė su sviestu | G8: =D8 -> Arbata su citrina | H8: =E8 -> Sausainiai | I8: Pieniška makaronų sriuba | J8: Duona | K8: Virtinikai su varške | L8: Saldus grietinės padažas | M8: Sultys | N8: =I8 -> Pieniška makaronų sriuba | O8: =J8 -> Duona | P8: =K8 -> Virtinikai su varške | Q8: =L8 -> Saldus grietinės padažas | R8: =M8 -> Sultys | S8: Parama | T8: Dešrelės | U8: Žali žirneliai | V8: Batonas su sviestu | W8: Kmynų arbata | X8: =T8 -> Dešrelės | Y8: =U8 -> Žali žirneliai | Z8: =V8 -> Batonas su sviestu | AA8: =W8 -> Kmynų arbata
A12: 1 | B12: 2 | C12: 3 | D12: 4 | E12: 5 | F12: 6 | G12: 7 | H12: 8 | I12: 9 | J12: 10 | K12: 11 | L12: 12 | M12: 13 | N12: 14 | O12: 15 | P12: 16 | Q12: 17 | R12: 18 | S12: 19 | T12: 20 | U12: 21 | V12: 22 | W12: 22 | X12: 23 | Y12: 24 | Z12: 25 | AA12: 26 | AB12: 27 | AC12: 28
A13: Porcijų skaičius | C13: =+F3 -> 20 | F13: =+G3 -> 81 | I13: =F3 -> 20 | N13: =G3+H3+I3+J3+A3 -> 97 | S13: =+Q5 -> 103 | T13: =F3 -> 20 | X13: =G3+H3+I3+J3 -> 83
A14: Išeiga porc. svoris... | C14: 150 | D14: 150 | E14: 40 | F14: 200 | G14: 200 | H14: 50 | I14: 150 | J14: 20 | K14: 150 | L14: 15 | M14: 100 | N14: 200 | O14: 25 | P14: 200 | Q14: 19 | R14: 150 | S14: 200 | T14: 60 | U14: 40 | V14: 25 | W14: 150 | X14: 100 | Y14: 50 | Z14: 30 | AA14: 200
T15: 0.118 | X15: 0.181
A16: Dešrelės | B16: kg | T16: =+T13*T15 -> 2.36 | X16: =+X13*X15 -> 15.023 | AB16: 610052 | AC16: =SUM(C16:AA16) -> 17.383
M17: 0.2 | R17: 0.2
A18: Min.vanduo | B18: l | M18: =+I13*M17 -> 4 | R18: =+N13*R17 -> 19.4 | AB18: 615018 | AC18: =SUM(C18:AA18) -> 23.4
C19: 0.007 | F19: 0.004 | K19: 0.0036 | P19: 0.0032 | V19: 0.0054 | Z19: 0.0060246914
A20: Sviestas | B20: kg | C20: =+C13*C19 -> 0.14 | F20: =+F13*F19 -> 0.324 | K20: =+K19*I13 -> 0.072 | P20: =+P19*N13 -> 0.3104 | V20: =+V19*T13 -> 0.108 | Z20: =+Z19*X13 -> 0.50004938 | AB20: 612001 | AC20: =SUM(C20:AA20) -> 1.4544494
C21: 0.18 | F21: 0.13333333 | I21: 0.18 | N21: 0.20736842
A22: Pienas | B22: kg | C22: =+C21*C13 -> 3.6 | F22: =+F21*F13 -> 10.8 | I22: =+I21*I13 -> 3.6 | N22: =+N21*N13 -> 20.114737 | AB22: 612036 | AC22: =SUM(C22:AA22) -> 38.114737
L23: 0.027 | Q23: 0.030105263
A24: Grietinė | B24: kg | L24: =+L23*I13 -> 0.54 | Q24: =+Q23*N13 -> 2.9202105 | AB24: 612060 | AC24: =SUM(C24:AA24) -> 3.4602105
K25: 0.198 | P25: 0.22147368
A26: Varškė | B26: kg | K26: =+K25*I13 -> 3.96 | P26: =+P25*N13 -> 21.482947 | AB26: 612067 | AC26: =SUM(C26:AA26) -> 25.442947
A28: Kiaušiniai | B28: vnt. | K28: 4 | P28: 16 | AB28: 612084 | AC28: =SUM(C28:AA28) -> 20
K29: 0.072 | P29: 0.096
A30: Miltai | B30: kg | K30: =+K29*I13 -> 1.44 | P30: =+P29*N13 -> 9.312 | AB30: 613001 | AC30: =SUM(C30:AA30) -> 10.752
C31: 0.096 | F31: 0.06247619
A32: Grikių kr. | B32: kg | C32: =C31*C13 -> 1.92 | F32: =F31*F13 -> 5.0605714 | AB32: 613029 | AC32: =SUM(C32:AA32) -> 6.9805714
I33: 0.0216 | N33: 0.027031579
A34: Makaronai | B34: kg | I34: =+I33*I13 -> 0.432 | N34: =+N33*N13 -> 2.6220632 | AB34: 613052 | AC34: =SUM(C34:AA34) -> 3.0540632
D35: 0.0288 | G35: 0.02 | W35: 0.0266 | AA35: 0.025925926
A36: Cukrus | B36: kg | D36: =D35*C13 -> 0.576 | G36: =G35*F13 -> 1.62 | W36: =+W35*T13 -> 0.532 | AA36: =+AA35*X13 -> 2.1518519 | AB36: 614002 | AC36: =SUM(C36:AA36) -> 4.8798519
K37: 0.005 | P37: 0.0042105263
A38: Cukrus vanilininis | B38: kg | K38: =K37*I13 -> 0.1 | P38: =P37*N13 -> 0.40842105 | AB38: 614004 | AC38: =SUM(C38:AA38) -> 0.50842105
E39: 0.0096 | H39: 0.046666667
A40: Sausainiai | B40: kg | E40: =E39*C13 -> 0.192 | H40: =H39*F13 -> 3.78 | AB40: 614074 | AC40: =SUM(C40:AA40) -> 3.972
E41: 0.0046666667 | H41: 0.0025
A42: Citrinos | B42: kg | E42: =E41*C13 -> 0.093333333 | H42: =H41*F13 -> 0.2025 | AB42: 615033 | AC42: =SUM(C42:AA42) -> 0.29583333
U43: 0.072 | Y43: 0.080987654
A44: Žali žirneliai | B44: kg | U44: =U43*T13 -> 1.44 | Y44: =Y43*X13 -> 6.7219753 | AB44: 615071 | AC44: =SUM(C44:AA44) -> 8.1619753
M45: 0.18 | R45: 0.24631579
A46: Sultys | B46: kg | M46: =M45*I13 -> 3.6 | R46: =R45*N13 -> 23.892632 | AB46: 615098 | AC46: =SUM(C46:AA46) -> 27.492632
J47: 0.045 | O47: 0.053684211
A48: duona - 616001 | B48: kg | J48: =J47*I13 -> 0.9 | O48: =O47*N13 -> 5.2073684 | AB48: 616002 | AC48: =SUM(C48:AA48) -> 6.1073684
V49: 0.0054 | Z49: 0.0060246914
A50: Batonas | B50: kg | V50: =V49*T13 -> 0.108 | Z50: =Z49*X13 -> 0.50004938 | AB50: 616009 | AC50: =SUM(C50:AA50) -> 0.60804938
A52: Kmynai | B52: kg | W52: 0.07 | AA52: 0.23 | AB52: 616021 | AC52: =SUM(C52:AA52) -> 0.3
D53: 0.003 | G53: 0.0013
A54: Arbata | B54: kg | D54: =D53*C13 -> 0.06 | G54: =G53*F13 -> 0.1053 | AB54: 616022 | AC54: =SUM(C54:AA54) -> 0.1653
A56: Druska | B56: kg | I56: 0.1 | AB56: 616042 | AC56: =SUM(C56:AA56) -> 0.1
S57: 0.2
A58: Obuoliai | B58: kg | S58: =+S13*S57 -> 20.6 | AB58: 615054 | AC58: =SUM(C58:AA58) -> 20.6
AC60: =SUM(C60:AA60) -> 0
A62: Dietologas Vardenis Pavardenis | I62: Produktus išdavė sandėlininkė Vardenė Pavardenė | T62: Produktus priėmė virėja Vardenė Pavardenė

Sheet 2 valgiaraštis PVZ (..)
A1: Darbuotojai | B1: Grupės | F1: 12 val. | G1: 12 val. | H1: 4 val. | I1: 4 val. | J1: 12 val. | N1: Vilniaus lopšelis-darželis "__________________"
A2: žmonių skaičius | F2: 101 | G2: 102 | H2: 109 | I2: 110 | J2: 134 | M2: VALGIARAŠTIS (REIKALAVIMAS) Nr. 2022_____ | W2: Direktorė ____________ | AA2: Vardenė Pavardenė
A3: 14 | B3: Žmonių skaičius | F3: 20 | G3: 81 | H3: 0 | I3: 0 | J3: 2 | P3: maisto produktams išduoti | W3: A. V. | Y3: (parašas)
A4: 1.8 | B4: Vaikadienio planinė vertė | F4: 2.2 | G4: 2.5 | H4: 1.7 | I4: 1.9 | J4: 3.17 | M4: 2022 m. | O4: sausio | R4: mėn. | S4: ... | T4: d. | W4: 2022 m. | Y4: =+O4 -> sausio | AA4: mėn. | AB4: =+S4 -> ... | AC4: d.
B5: Suma | F5: =+F4*F3 -> 44 | G5: =+G4*G3 -> 202.5 | H5: =+H4*H3 -> 0 | I5: =+I4*I3 -> 0 | J5: =+J4*J3 -> 6.34 | K5: =+K4*K3 -> 0 | L5: =+L4*L3 -> 0 | M5: Vaikų skaičius paramai gauti: | Q5: =+SUM(F3:L3) -> 103
B6: Iš viso per mėnesį vaikadienių
A7: Produktų pavadinimas | B7: Mato vnt. | C7: Pusryčiai | I7: Pietūs | T7: Vakarienė | AB7: Nomenklatūrinis numeris | AC7: kiekis viso
C8: Grikių kruopų košė su sviestu | D8: Arbata su citrina | E8: Sausainiai | F8: =C8 -> Grikių kruopų košė su sviestu | G8: =D8 -> Arbata su citrina | H8: =E8 -> Sausainiai | I8: Pieniška makaronų sriuba | J8: Duona | K8: Virtinikai su varške | L8: Saldus grietinės padažas | M8: Sultys | N8: =I8 -> Pieniška makaronų sriuba | O8: =J8 -> Duona | P8: =K8 -> Virtinikai su varške | Q8: =L8 -> Saldus grietinės padažas | R8: =M8 -> Sultys | S8: Parama | T8: Dešrelės | U8: Žali žirneliai | V8: Batonas su sviestu | W8: Kmynų arbata | X8: =T8 -> Dešrelės | Y8: =U8 -> Žali žirneliai | Z8: =V8 -> Batonas su sviestu | AA8: =W8 -> Kmynų arbata
A12: 1 | B12: 2 | C12: 3 | D12: 4 | E12: 5 | F12: 6 | G12: 7 | H12: 8 | I12: 9 | J12: 10 | K12: 11 | L12: 12 | M12: 13 | N12: 14 | O12: 15 | P12: 16 | Q12: 17 | R12: 18 | S12: 19 | T12: 20 | U12: 21 | V12: 22 | W12: 22 | X12: 23 | Y12: 24 | Z12: 25 | AA12: 26 | AB12: 27 | AC12: 28
A13: Porcijų skaičius | C13: =+F3 -> 20 | F13: =+G3 -> 81 | I13: =F3 -> 20 | N13: =G3+H3+I3+J3+A3 -> 97 | S13: =+Q5 -> 103 | T13: =F3 -> 20 | X13: =G3+H3+I3+J3 -> 83
A14: Išeiga porc. svoris... | C14: 150 | D14: 150 | E14: 40 | F14: 200 | G14: 200 | H14: 50 | I14: 150 | J14: 20 | K14: 150 | L14: 15 | M14: 100 | N14: 200 | O14: 25 | P14: 200 | Q14: 19 | R14: 150 | S14: 200 | T14: 60 | U14: 40 | V14: 25 | W14: 150 | X14: 100 | Y14: 50 | Z14: 30 | AA14: 200
T15: 0.118 | X15: 0.181
A16: Dešrelės | B16: kg | T16: =+T13*T15 -> 2.36 | X16: =+X13*X15 -> 15.023 | AB16: 610052 | AC16: =SUM(C16:AA16) -> 17.383
M17: 0.2 | R17: 0.2
A18: Min.vanduo | B18: l | M18: =+I13*M17 -> 4 | R18: =+N13*R17 -> 19.4 | AB18: 615018 | AC18: =SUM(C18:AA18) -> 23.4
C19: 0.007 | F19: 0.004 | K19: 0.0036 | P19: 0.0032 | V19: 0.0054 | Z19: 0.0060246914
A20: Sviestas | B20: kg | C20: =+C13*C19 -> 0.14 | F20: =+F13*F19 -> 0.324 | K20: =+K19*I13 -> 0.072 | P20: =+P19*N13 -> 0.3104 | V20: =+V19*T13 -> 0.108 | Z20: =+Z19*X13 -> 0.50004938 | AB20: 612001 | AC20: =SUM(C20:AA20) -> 1.4544494
C21: 0.18 | F21: 0.13333333 | I21: 0.18 | N21: 0.20736842
A22: Pienas | B22: kg | C22: =+C21*C13 -> 3.6 | F22: =+F21*F13 -> 10.8 | I22: =+I21*I13 -> 3.6 | N22: =+N21*N13 -> 20.114737 | AB22: 612036 | AC22: =SUM(C22:AA22) -> 38.114737
L23: 0.027 | Q23: 0.030105263
A24: Grietinė | B24: kg | L24: =+L23*I13 -> 0.54 | Q24: =+Q23*N13 -> 2.9202105 | AB24: 612060 | AC24: =SUM(C24:AA24) -> 3.4602105
K25: 0.198 | P25: 0.22147368
A26: Varškė | B26: kg | K26: =+K25*I13 -> 3.96 | P26: =+P25*N13 -> 21.482947 | AB26: 612067 | AC26: =SUM(C26:AA26) -> 25.442947
A28: Kiaušiniai | B28: vnt. | K28: 4 | P28: 16 | AB28: 612084 | AC28: =SUM(C28:AA28) -> 20
K29: 0.072 | P29: 0.096
A30: Miltai | B30: kg | K30: =+K29*I13 -> 1.44 | P30: =+P29*N13 -> 9.312 | AB30: 613001 | AC30: =SUM(C30:AA30) -> 10.752
C31: 0.096 | F31: 0.06247619
A32: Grikių kr. | B32: kg | C32: =C31*C13 -> 1.92 | F32: =F31*F13 -> 5.0605714 | AB32: 613029 | AC32: =SUM(C32:AA32) -> 6.9805714
I33: 0.0216 | N33: 0.027031579
A34: Makaronai | B34: kg | I34: =+I33*I13 -> 0.432 | N34: =+N33*N13 -> 2.6220632 | AB34: 613052 | AC34: =SUM(C34:AA34) -> 3.0540632
D35: 0.0288 | G35: 0.02 | W35: 0.0266 | AA35: 0.025925926
A36: Cukrus | B36: kg | D36: =D35*C13 -> 0.576 | G36: =G35*F13 -> 1.62 | W36: =+W35*T13 -> 0.532 | AA36: =+AA35*X13 -> 2.1518519 | AB36: 614002 | AC36: =SUM(C36:AA36) -> 4.8798519
K37: 0.005 | P37: 0.0042105263
A38: Cukrus vanilininis | B38: kg | K38: =K37*I13 -> 0.1 | P38: =P37*N13 -> 0.40842105 | AB38: 614004 | AC38: =SUM(C38:AA38) -> 0.50842105
E39: 0.0096 | H39: 0.046666667
A40: Sausainiai | B40: kg | E40: =E39*C13 -> 0.192 | H40: =H39*F13 -> 3.78 | AB40: 614074 | AC40: =SUM(C40:AA40) -> 3.972
E41: 0.0046666667 | H41: 0.0025
A42: Citrinos | B42: kg | E42: =E41*C13 -> 0.093333333 | H42: =H41*F13 -> 0.2025 | AB42: 615033 | AC42: =SUM(C42:AA42) -> 0.29583333
U43: 0.072 | Y43: 0.080987654
A44: Žali žirneliai | B44: kg | U44: =U43*T13 -> 1.44 | Y44: =Y43*X13 -> 6.7219753 | AB44: 615071 | AC44: =SUM(C44:AA44) -> 8.1619753
M45: 0.18 | R45: 0.24631579
A46: Sultys | B46: kg | M46: =M45*I13 -> 3.6 | R46: =R45*N13 -> 23.892632 | AB46: 615098 | AC46: =SUM(C46:AA46) -> 27.492632
J47: 0.045 | O47: 0.053684211
A48: duona - 616001 | B48: kg | J48: =J47*I13 -> 0.9 | O48: =O47*N13 -> 5.2073684 | AB48: 616002 | AC48: =SUM(C48:AA48) -> 6.1073684
V49: 0.0054 | Z49: 0.0060246914
A50: Batonas | B50: kg | V50: =V49*T13 -> 0.108 | Z50: =Z49*X13 -> 0.50004938 | AB50: 616009 | AC50: =SUM(C50:AA50) -> 0.60804938
A52: Kmynai | B52: kg | W52: 0.07 | AA52: 0.23 | AB52: 616021 | AC52: =SUM(C52:AA52) -> 0.3
D53: 0.003 | G53: 0.0013
A54: Arbata | B54: kg | D54: =D53*C13 -> 0.06 | G54: =G53*F13 -> 0.1053 | AB54: 616022 | AC54: =SUM(C54:AA54) -> 0.1653
A56: Druska | B56: kg | I56: 0.1 | AB56: 616042 | AC56: =SUM(C56:AA56) -> 0.1
S57: 0.2
A58: Obuoliai | B58: kg | S58: =+S13*S57 -> 20.6 | AB58: 615054 | AC58: =SUM(C58:AA58) -> 20.6
AC60: =SUM(C60:AA60) -> 0
A62: Dietologas Vardenis Pavardenis | I62: Produktus išdavė sandėlininkė Vardenė Pavardenė | T62: Produktus priėmė virėja Vardenė Pavardenė

Sheet 2 valgiaraštis PVZ (29 diena)
A1: Darbuotojai | B1: Grupės | F1: 12 val. | G1: 12 val. | H1: 4 val. | I1: 4 val. | J1: 12 val. | N1: Vilniaus lopšelis-darželis "__________________"
A2: žmonių skaičius | F2: 101 | G2: 102 | H2: 109 | I2: 110 | J2: 134 | M2: VALGIARAŠTIS (REIKALAVIMAS) Nr. 2022_____ | W2: Direktorė ____________ | AA2: Vardenė Pavardenė
A3: 14 | B3: Žmonių skaičius | F3: 20 | G3: 81 | H3: 0 | I3: 0 | J3: 2 | P3: maisto produktams išduoti | W3: A. V. | Y3: (parašas)
A4: 1.8 | B4: Vaikadienio planinė vertė | F4: 2.2 | G4: 2.5 | H4: 1.7 | I4: 1.9 | J4: 3.17 | M4: 2022 m. | O4: sausio | R4: mėn. | S4: 1 | T4: d. | W4: 2022 m. | Y4: =+O4 -> sausio | AA4: mėn. | AB4: =+S4 -> 1 | AC4: d.
B5: Suma | F5: =+F4*F3 -> 44 | G5: =+G4*G3 -> 202.5 | H5: =+H4*H3 -> 0 | I5: =+I4*I3 -> 0 | J5: =+J4*J3 -> 6.34 | K5: =+K4*K3 -> 0 | L5: =+L4*L3 -> 0 | M5: Vaikų skaičius paramai gauti: | Q5: =+SUM(F3:L3) -> 103
B6: Iš viso per mėnesį vaikadienių
A7: Produktų pavadinimas | B7: Mato vnt. | C7: Pusryčiai | I7: Pietūs | T7: Vakarienė | AB7: Nomenklatūrinis numeris | AC7: kiekis viso
C8: Grikių kruopų košė su sviestu | D8: Arbata su citrina | E8: Sausainiai | F8: =C8 -> Grikių kruopų košė su sviestu | G8: =D8 -> Arbata su citrina | H8: =E8 -> Sausainiai | I8: Pieniška makaronų sriuba | J8: Duona | K8: Virtinikai su varške | L8: Saldus grietinės padažas | M8: Sultys | N8: =I8 -> Pieniška makaronų sriuba | O8: =J8 -> Duona | P8: =K8 -> Virtinikai su varške | Q8: =L8 -> Saldus grietinės padažas | R8: =M8 -> Sultys | S8: Parama | T8: Dešrelės | U8: Žali žirneliai | V8: Batonas su sviestu | W8: Kmynų arbata | X8: =T8 -> Dešrelės | Y8: =U8 -> Žali žirneliai | Z8: =V8 -> Batonas su sviestu | AA8: =W8 -> Kmynų arbata
A12: 1 | B12: 2 | C12: 3 | D12: 4 | E12: 5 | F12: 6 | G12: 7 | H12: 8 | I12: 9 | J12: 10 | K12: 11 | L12: 12 | M12: 13 | N12: 14 | O12: 15 | P12: 16 | Q12: 17 | R12: 18 | S12: 19 | T12: 20 | U12: 21 | V12: 22 | W12: 22 | X12: 23 | Y12: 24 | Z12: 25 | AA12: 26 | AB12: 27 | AC12: 28
A13: Porcijų skaičius | C13: =+F3 -> 20 | F13: =+G3 -> 81 | I13: =F3 -> 20 | N13: =G3+H3+I3+J3+A3 -> 97 | S13: =+Q5 -> 103 | T13: =F3 -> 20 | X13: =G3+H3+I3+J3 -> 83
A14: Išeiga porc. svoris... | C14: 150 | D14: 150 | E14: 40 | F14: 200 | G14: 200 | H14: 50 | I14: 150 | J14: 20 | K14: 150 | L14: 15 | M14: 100 | N14: 200 | O14: 25 | P14: 200 | Q14: 19 | R14: 150 | S14: 200 | T14: 60 | U14: 40 | V14: 25 | W14: 150 | X14: 100 | Y14: 50 | Z14: 30 | AA14: 200
T15: 0.118 | X15: 0.181
A16: Dešrelės | B16: kg | T16: =+T13*T15 -> 2.36 | X16: =+X13*X15 -> 15.023 | AB16: 610052 | AC16: =SUM(C16:AA16) -> 17.383
M17: 0.2 | R17: 0.2
A18: Min.vanduo | B18: l | M18: =+I13*M17 -> 4 | R18: =+N13*R17 -> 19.4 | AB18: 615018 | AC18: =SUM(C18:AA18) -> 23.4
C19: 0.007 | F19: 0.004 | K19: 0.0036 | P19: 0.0032 | V19: 0.0054 | Z19: 0.0060246914
A20: Sviestas | B20: kg | C20: =+C13*C19 -> 0.14 | F20: =+F13*F19 -> 0.324 | K20: =+K19*I13 -> 0.072 | P20: =+P19*N13 -> 0.3104 | V20: =+V19*T13 -> 0.108 | Z20: =+Z19*X13 -> 0.50004938 | AB20: 612001 | AC20: =SUM(C20:AA20) -> 1.4544494
C21: 0.18 | F21: 0.13333333 | I21: 0.18 | N21: 0.20736842
A22: Pienas | B22: kg | C22: =+C21*C13 -> 3.6 | F22: =+F21*F13 -> 10.8 | I22: =+I21*I13 -> 3.6 | N22: =+N21*N13 -> 20.114737 | AB22: 612036 | AC22: =SUM(C22:AA22) -> 38.114737
L23: 0.027 | Q23: 0.030105263
A24: Grietinė | B24: kg | L24: =+L23*I13 -> 0.54 | Q24: =+Q23*N13 -> 2.9202105 | AB24: 612060 | AC24: =SUM(C24:AA24) -> 3.4602105
K25: 0.198 | P25: 0.22147368
A26: Varškė | B26: kg | K26: =+K25*I13 -> 3.96 | P26: =+P25*N13 -> 21.482947 | AB26: 612067 | AC26: =SUM(C26:AA26) -> 25.442947
A28: Kiaušiniai | B28: vnt. | K28: 4 | P28: 16 | AB28: 612084 | AC28: =SUM(C28:AA28) -> 20
K29: 0.072 | P29: 0.096
A30: Miltai | B30: kg | K30: =+K29*I13 -> 1.44 | P30: =+P29*N13 -> 9.312 | AB30: 613001 | AC30: =SUM(C30:AA30) -> 10.752
C31: 0.096 | F31: 0.06247619
A32: Grikių kr. | B32: kg | C32: =C31*C13 -> 1.92 | F32: =F31*F13 -> 5.0605714 | AB32: 613029 | AC32: =SUM(C32:AA32) -> 6.9805714
I33: 0.0216 | N33: 0.027031579
A34: Makaronai | B34: kg | I34: =+I33*I13 -> 0.432 | N34: =+N33*N13 -> 2.6220632 | AB34: 613052 | AC34: =SUM(C34:AA34) -> 3.0540632
D35: 0.0288 | G35: 0.02 | W35: 0.0266 | AA35: 0.025925926
A36: Cukrus | B36: kg | D36: =D35*C13 -> 0.576 | G36: =G35*F13 -> 1.62 | W36: =+W35*T13 -> 0.532 | AA36: =+AA35*X13 -> 2.1518519 | AB36: 614002 | AC36: =SUM(C36:AA36) -> 4.8798519
K37: 0.005 | P37: 0.0042105263
A38: Cukrus vanilininis | B38: kg | K38: =K37*I13 -> 0.1 | P38: =P37*N13 -> 0.40842105 | AB38: 614004 | AC38: =SUM(C38:AA38) -> 0.50842105
E39: 0.0096 | H39: 0.046666667
A40: Sausainiai | B40: kg | E40: =E39*C13 -> 0.192 | H40: =H39*F13 -> 3.78 | AB40: 614074 | AC40: =SUM(C40:AA40) -> 3.972
E41: 0.0046666667 | H41: 0.0025
A42: Citrinos | B42: kg | E42: =E41*C13 -> 0.093333333 | H42: =H41*F13 -> 0.2025 | AB42: 615033 | AC42: =SUM(C42:AA42) -> 0.29583333
U43: 0.072 | Y43: 0.080987654
A44: Žali žirneliai | B44: kg | U44: =U43*T13 -> 1.44 | Y44: =Y43*X13 -> 6.7219753 | AB44: 615071 | AC44: =SUM(C44:AA44) -> 8.1619753
M45: 0.18 | R45: 0.24631579
A46: Sultys | B46: kg | M46: =M45*I13 -> 3.6 | R46: =R45*N13 -> 23.892632 | AB46: 615098 | AC46: =SUM(C46:AA46) -> 27.492632
J47: 0.045 | O47: 0.053684211
A48: duona - 616001 | B48: kg | J48: =J47*I13 -> 0.9 | O48: =O47*N13 -> 5.2073684 | AB48: 616002 | AC48: =SUM(C48:AA48) -> 6.1073684
V49: 0.0054 | Z49: 0.0060246914
A50: Batonas | B50: kg | V50: =V49*T13 -> 0.108 | Z50: =Z49*X13 -> 0.50004938 | AB50: 616009 | AC50: =SUM(C50:AA50) -> 0.60804938
A52: Kmynai | B52: kg | W52: 0.07 | AA52: 0.23 | AB52: 616021 | AC52: =SUM(C52:AA52) -> 0.3
D53: 0.003 | G53: 0.0013
A54: Arbata | B54: kg | D54: =D53*C13 -> 0.06 | G54: =G53*F13 -> 0.1053 | AB54: 616022 | AC54: =SUM(C54:AA54) -> 0.1653
A56: Druska | B56: kg | I56: 0.1 | AB56: 616042 | AC56: =SUM(C56:AA56) -> 0.1
S57: 0.2
A58: Obuoliai | B58: kg | S58: =+S13*S57 -> 20.6 | AB58: 615054 | AC58: =SUM(C58:AA58) -> 20.6
AC60: =SUM(C60:AA60) -> 0
A62: Dietologas Vardenis Pavardenis | I62: Produktus išdavė sandėlininkė Vardenė Pavardenė | T62: Produktus priėmė virėja Vardenė Pavardenė

Sheet 2 valgiaraštis PVZ (suminis mė)
A1: Darbuotojai | B1: Grupės | F1: 12 val. | G1: 12 val. | H1: 4 val. | I1: 4 val. | J1: 12 val. | N1: Vilniaus lopšelis-darželis "__________________"
A2: žmonių skaičius | F2: 101 | G2: 102 | H2: 109 | I2: 110 | J2: 134 | M2: VALGIARAŠTIS (REIKALAVIMAS) Nr. 2022_____ | W2: Direktorė ____________ | AA2: Vardenė Pavardenė
A3: 14 | B3: Žmonių skaičius | F3: 20 | G3: 81 | H3: 0 | I3: 0 | J3: 2 | L3: 0 | P3: maisto produktams išduoti | W3: A. V. | Y3: (parašas)
A4: 1.8 | B4: Vaikadienio planinė vertė | F4: 2.2 | G4: 2.5 | H4: 1.7 | I4: 1.9 | J4: 3.17 | L4: 0 | M4: 2022 m. | O4: sausio | R4: mėn. | S4: 1 | T4: d. | W4: 2022 m. | Y4: =+O4 -> sausio | AA4: mėn. | AB4: 1 | AC4: d.
B5: Suma | F5: =+F4*F3 -> 44 | G5: =+G4*G3 -> 202.5 | H5: =+H4*H3 -> 0 | I5: =+I4*I3 -> 0 | J5: =+J4*J3 -> 6.34 | K5: =+K4*K3 -> 0 | L5: =+L4*L3 -> 0 | M5: Vaikų skaičius paramai gauti: | Q5: =+SUM(F3:L3) -> 103
B6: Iš viso per mėnesį vaikadienių | F6: =F3+'2 valgiaraštis PVZ (29 diena)'!F3+'2 valgiaraštis PVZ (..)'!F3+'2 valgiaraštis PVZ (1 diena)'!F3 -> 80 | G6: =G3+'2 valgiaraštis PVZ (29 diena)'!G3+'2 valgiaraštis PVZ (..)'!G3+'2 valgiaraštis PVZ (1 diena)'!G3 -> 324 | H6: =H3+'2 valgiaraštis PVZ (29 diena)'!H3+'2 valgiaraštis PVZ (..)'!H3+'2 valgiaraštis PVZ (1 diena)'!H3 -> 0 | I6: =I3+'2 valgiaraštis PVZ (29 diena)'!I3+'2 valgiaraštis PVZ (..)'!I3+'2 valgiaraštis PVZ (1 diena)'!I3 -> 0 | J6: =J3+'2 valgiaraštis PVZ (29 diena)'!J3+'2 valgiaraštis PVZ (..)'!J3+'2 valgiaraštis PVZ (1 diena)'!J3 -> 8 | K6: =K3+'2 valgiaraštis PVZ (29 diena)'!K3+'2 valgiaraštis PVZ (..)'!K3+'2 valgiaraštis PVZ (1 diena)'!K3 -> 0 | L6: =L3+'2 valgiaraštis PVZ (29 diena)'!L3+'2 valgiaraštis PVZ (..)'!L3+'2 valgiaraštis PVZ (1 diena)'!L3 -> 0
A7: Produktų pavadinimas | B7: Mato vnt. | C7: Pusryčiai | I7: Pietūs | T7: Vakarienė | AB7: Nomenklatūrinis numeris | AC7: kiekis viso
C8: Grikių kruopų košė su sviestu | D8: Arbata su citrina | E8: Sausainiai | F8: =C8 -> Grikių kruopų košė su sviestu | G8: =D8 -> Arbata su citrina | H8: =E8 -> Sausainiai | I8: Pieniška makaronų sriuba | J8: Duona | K8: Virtinikai su varške | L8: Saldus grietinės padažas | M8: Sultys | N8: =I8 -> Pieniška makaronų sriuba | O8: =J8 -> Duona | P8: =K8 -> Virtinikai su varške | Q8: =L8 -> Saldus grietinės padažas | R8: =M8 -> Sultys | S8: Parama | T8: Dešrelės | U8: Žali žirneliai | V8: Batonas su sviestu | W8: Kmynų arbata | X8: =T8 -> Dešrelės | Y8: =U8 -> Žali žirneliai | Z8: =V8 -> Batonas su sviestu | AA8: =W8 -> Kmynų arbata
A12: 1 | B12: 2 | C12: 3 | D12: 4 | E12: 5 | F12: 6 | G12: 7 | H12: 8 | I12: 9 | J12: 10 | K12: 11 | L12: 12 | M12: 13 | N12: 14 | O12: 15 | P12: 16 | Q12: 17 | R12: 18 | S12: 19 | T12: 20 | U12: 21 | V12: 22 | W12: 22 | X12: 23 | Y12: 24 | Z12: 25 | AA12: 26 | AB12: 27 | AC12: 28
A13: Porcijų skaičius | C13: =+F3 -> 20 | F13: =+G3 -> 81 | I13: =F3 -> 20 | N13: =G3+H3+I3+J3+A3 -> 97 | S13: =+Q5 -> 103 | T13: =F3 -> 20 | X13: =G3+H3+I3+J3 -> 83
A14: Išeiga porc. svoris... | C14: 150 | D14: 150 | E14: 40 | F14: 200 | G14: 200 | H14: 50 | I14: 150 | J14: 20 | K14: 150 | L14: 15 | M14: 100 | N14: 200 | O14: 25 | P14: 200 | Q14: 19 | R14: 150 | S14: 200 | T14: 60 | U14: 40 | V14: 25 | W14: 150 | X14: 100 | Y14: 50 | Z14: 30 | AA14: 200
T15: 0.118 | X15: 0.181
A16: Dešrelės | B16: kg | T16: =+T13*T15 -> 2.36 | X16: =+X13*X15 -> 15.023 | AB16: 610052 | AC16: =SUM(C16:AA16) -> 17.383
M17: 0.2 | R17: 0.2
A18: Min.vanduo | B18: l | M18: =+I13*M17 -> 4 | R18: =+N13*R17 -> 19.4 | AB18: 615018 | AC18: =SUM(C18:AA18) -> 23.4
C19: 0.007 | F19: 0.004 | K19: 0.0036 | P19: 0.0032 | V19: 0.0054 | Z19: 0.0060246914
A20: Sviestas | B20: kg | C20: =+C13*C19 -> 0.14 | F20: =+F13*F19 -> 0.324 | K20: =+K19*I13 -> 0.072 | P20: =+P19*N13 -> 0.3104 | V20: =+V19*T13 -> 0.108 | Z20: =+Z19*X13 -> 0.50004938 | AB20: 612001 | AC20: =SUM(C20:AA20) -> 1.4544494
C21: 0.18 | F21: 0.13333333 | I21: 0.18 | N21: 0.20736842
A22: Pienas | B22: kg | C22: =+C21*C13 -> 3.6 | F22: =+F21*F13 -> 10.8 | I22: =+I21*I13 -> 3.6 | N22: =+N21*N13 -> 20.114737 | AB22: 612036 | AC22: =SUM(C22:AA22) -> 38.114737
L23: 0.027 | Q23: 0.030105263
A24: Grietinė | B24: kg | L24: =+L23*I13 -> 0.54 | Q24: =+Q23*N13 -> 2.9202105 | AB24: 612060 | AC24: =SUM(C24:AA24) -> 3.4602105
K25: 0.198 | P25: 0.22147368
A26: Varškė | B26: kg | K26: =+K25*I13 -> 3.96 | P26: =+P25*N13 -> 21.482947 | AB26: 612067 | AC26: =SUM(C26:AA26) -> 25.442947
A28: Kiaušiniai | B28: vnt. | K28: 4 | P28: 16 | AB28: 612084 | AC28: =SUM(C28:AA28) -> 20
K29: 0.072 | P29: 0.096
A30: Miltai | B30: kg | K30: =+K29*I13 -> 1.44 | P30: =+P29*N13 -> 9.312 | AB30: 613001 | AC30: =SUM(C30:AA30) -> 10.752
C31: 0.096 | F31: 0.06247619
A32: Grikių kr. | B32: kg | C32: =C31*C13 -> 1.92 | F32: =F31*F13 -> 5.0605714 | AB32: 613029 | AC32: =SUM(C32:AA32) -> 6.9805714
I33: 0.0216 | N33: 0.027031579
A34: Makaronai | B34: kg | I34: =+I33*I13 -> 0.432 | N34: =+N33*N13 -> 2.6220632 | AB34: 613052 | AC34: =SUM(C34:AA34) -> 3.0540632
D35: 0.0288 | G35: 0.02 | W35: 0.0266 | AA35: 0.025925926
A36: Cukrus | B36: kg | D36: =D35*C13 -> 0.576 | G36: =G35*F13 -> 1.62 | W36: =+W35*T13 -> 0.532 | AA36: =+AA35*X13 -> 2.1518519 | AB36: 614002 | AC36: =SUM(C36:AA36) -> 4.8798519
K37: 0.005 | P37: 0.0042105263
A38: Cukrus vanilininis | B38: kg | K38: =K37*I13 -> 0.1 | P38: =P37*N13 -> 0.40842105 | AB38: 614004 | AC38: =SUM(C38:AA38) -> 0.50842105
E39: 0.0096 | H39: 0.046666667
A40: Sausainiai | B40: kg | E40: =E39*C13 -> 0.192 | H40: =H39*F13 -> 3.78 | AB40: 614074 | AC40: =SUM(C40:AA40) -> 3.972
E41: 0.0046666667 | H41: 0.0025
A42: Citrinos | B42: kg | E42: =E41*C13 -> 0.093333333 | H42: =H41*F13 -> 0.2025 | AB42: 615033 | AC42: =SUM(C42:AA42) -> 0.29583333
U43: 0.072 | Y43: 0.080987654
A44: Žali žirneliai | B44: kg | U44: =U43*T13 -> 1.44 | Y44: =Y43*X13 -> 6.7219753 | AB44: 615071 | AC44: =SUM(C44:AA44) -> 8.1619753
M45: 0.18 | R45: 0.24631579
A46: Sultys | B46: kg | M46: =M45*I13 -> 3.6 | R46: =R45*N13 -> 23.892632 | AB46: 615098 | AC46: =SUM(C46:AA46) -> 27.492632
J47: 0.045 | O47: 0.053684211
A48: duona - 616001 | B48: kg | J48: =J47*I13 -> 0.9 | O48: =O47*N13 -> 5.2073684 | AB48: 616002 | AC48: =SUM(C48:AA48) -> 6.1073684
V49: 0.0054 | Z49: 0.0060246914
A50: Batonas | B50: kg | V50: =V49*T13 -> 0.108 | Z50: =Z49*X13 -> 0.50004938 | AB50: 616009 | AC50: =SUM(C50:AA50) -> 0.60804938
A52: Kmynai | B52: kg | W52: 0.07 | AA52: 0.23 | AB52: 616021 | AC52: =SUM(C52:AA52) -> 0.3
D53: 0.003 | G53: 0.0013
A54: Arbata | B54: kg | D54: =D53*C13 -> 0.06 | G54: =G53*F13 -> 0.1053 | AB54: 616022 | AC54: =SUM(C54:AA54) -> 0.1653
A56: Druska | B56: kg | I56: 0.1 | AB56: 616042 | AC56: =SUM(C56:AA56) -> 0.1
S57: 0.2
A58: Obuoliai | B58: kg | S58: =+S13*S57 -> 20.6 | AB58: 615054 | AC58: =SUM(C58:AA58) -> 20.6
AC60: =SUM(C60:AA60) -> 0
A62: Dietologas Vardenis Pavardenis | I62: Produktus išdavė sandėlininkė Vardenė Pavardenė | T62: Produktus priėmė virėja Vardenė Pavardenė

Sheet 2 valgiaraštis PVZ (suminis)
A1: Darbuotojai | B1: Grupės | F1: 12 val. | G1: 12 val. | H1: 4 val. | I1: 4 val. | J1: 12 val. | N1: Vilniaus lopšelis-darželis "__________________"
A2: žmonių skaičius | F2: 101 | G2: 102 | H2: 109 | I2: 110 | J2: 134 | M2: VALGIARAŠTIS (REIKALAVIMAS) Nr. 2022_____ | W2: Direktorė ____________ | AA2: Vardenė Pavardenė
A3: 14 | B3: Žmonių skaičius | F3: 20 | G3: 81 | H3: 0 | I3: 0 | J3: 2 | L3: =SUM(F3:K3)+A3 -> 117 | P3: maisto produktams išduoti | W3: A. V. | Y3: (parašas)
A4: 1.8 | B4: Vaikadienio planinė vertė | F4: 2.2 | G4: 2.5 | H4: 1.7 | I4: 1.9 | J4: 3.17 | M4: 2022 m. | O4: sausio | R4: mėn. | S4: 1 | T4: d. | W4: 2022 m. | Y4: =+O4 -> sausio | AA4: mėn. | AB4: =+S4 -> 1 | AC4: d.
A5: =+A3*A4 -> 25.2 | B5: Suma | F5: =+F4*F3 -> 44 | G5: =+G4*G3 -> 202.5 | H5: =+H4*H3 -> 0 | I5: =+I4*I3 -> 0 | J5: =+J4*J3 -> 6.34 | K5: =+K4*K3 -> 0 | L5: =SUM(F5:K5)+A5 -> 278.04 | M5: Vaikų skaičius paramai gauti: | Q5: =+SUM(F3:K3) -> 103
A6: =+A3+'[1]2 valgiaraštis PVZ (1 d.)'!A3 -> 28 | B6: Iš viso per mėnesį vaikadienių | F6: =+'[1]2 valgiaraštis PVZ (1 d.)'!F3+F3 -> 40 | G6: =+'[1]2 valgiaraštis PVZ (1 d.)'!G3+G3 -> 162 | H6: =+'[1]2 valgiaraštis PVZ (1 d.)'!H3+H3 -> 0 | I6: =+'[1]2 valgiaraštis PVZ (1 d.)'!I3+I3 -> 0 | J6: =+'[1]2 valgiaraštis PVZ (1 d.)'!J3+J3 -> 2 | K6: =+'[1]2 valgiaraštis PVZ (1 d.)'!K3+K3 -> 0
A7: Produktų pavadinimas | B7: Mato vnt. | C7: Pusryčiai | I7: Pietūs | T7: Vakarienė | AB7: Nomenklatūrinis numeris | AC7: kiekis viso
C8: Grikių kruopų košė su sviestu | D8: Arbata su citrina | E8: Sausainiai | F8: =C8 -> Grikių kruopų košė su sviestu | G8: =D8 -> Arbata su citrina | H8: =E8 -> Sausainiai | I8: Pieniška makaronų sriuba | J8: Duona | K8: Virtinikai su varške | L8: Saldus grietinės padažas | M8: Sultys | N8: =I8 -> Pieniška makaronų sriuba | O8: =J8 -> Duona | P8: =K8 -> Virtinikai su varške | Q8: =L8 -> Saldus grietinės padažas | R8: =M8 -> Sultys | S8: Parama | T8: Omletas su sūriu | U8: Žali žirneliai | V8: Duona | W8: Mėtų arbata su citrina | X8: =T8 -> Omletas su sūriu | Y8: =U8 -> Žali žirneliai | Z8: =V8 -> Duona | AA8: =W8 -> Mėtų arbata su citrina
A12: 1 | B12: 2 | C12: 3 | D12: 4 | E12: 5 | F12: 6 | G12: 7 | H12: 8 | I12: 9 | J12: 10 | K12: 11 | L12: 12 | M12: 13 | N12: 14 | O12: 15 | P12: 16 | Q12: 17 | R12: 18 | S12: 19 | T12: 20 | U12: 21 | V12: 22 | W12: 22 | X12: 23 | Y12: 24 | Z12: 25 | AA12: 26 | AB12: 27 | AC12: 28
A13: Porcijų skaičius | C13: =+F3 -> 20 | F13: =+G3 -> 81 | I13: =F3 -> 20 | N13: =G3+H3+I3+J3+A3 -> 97 | S13: =+Q5 -> 103 | T13: =F3 -> 20 | X13: =G3+H3+I3+J3 -> 83
A14: Išeiga porc. svoris... | C14: 150 | D14: 150 | E14: 40 | F14: 200 | G14: 200 | H14: 50 | I14: 150 | J14: 20 | K14: 150 | L14: 15 | M14: 100 | N14: 200 | O14: 25 | P14: 200 | Q14: 19 | R14: 150 | S14: 200 | T14: 60 | U14: 40 | V14: 25 | W14: 150 | X14: 100 | Y14: 50 | Z14: 30 | AA14: 200
A16: Jautiena | B16: kg | C16: =$C$13*C15 -> 0 | D16: =$C$13*D15 -> 0 | E16: =$C$13*E15 -> 0 | F16: =$F$13*F15 -> 0 | G16: =$F$13*G15 -> 0 | H16: =$F$13*H15 -> 0 | I16: =$I$13*I15 -> 0 | J16: =$I$13*J15 -> 0 | K16: =$I$13*K15 -> 0 | L16: =$I$13*L15 -> 0 | M16: =$I$13*M15 -> 0 | N16: =$N$13*N15 -> 0 | O16: =$N$13*O15 -> 0 | P16: =$N$13*P15 -> 0 | Q16: =$N$13*Q15 -> 0 | R16: =$N$13*R15 -> 0 | S16: =$S$13*S15 -> 0 | T16: =$T$13*T15 -> 0 | U16: =$T$13*U15 -> 0 | V16: =$T$13*V15 -> 0 | W16: =$T$13*W15 -> 0 | X16: =$X$13*X15 -> 0 | Y16: =$X$13*Y15 -> 0 | Z16: =$X$13*Z15 -> 0 | AA16: =$X$13*AA15 -> 0 | AB16: 610001 | AC16: =SUM(C16:AA16) -> 0
A18: Kiauliena | B18: l | C18: =$C$13*C17 -> 0 | D18: =$C$13*D17 -> 0 | E18: =$C$13*E17 -> 0 | F18: =$F$13*F17 -> 0 | G18: =$F$13*G17 -> 0 | H18: =$F$13*H17 -> 0 | I18: =$I$13*I17 -> 0 | J18: =$I$13*J17 -> 0 | K18: =$I$13*K17 -> 0 | L18: =$I$13*L17 -> 0 | M18: =$I$13*M17 -> 0 | N18: =$N$13*N17 -> 0 | O18: =$N$13*O17 -> 0 | P18: =$N$13*P17 -> 0 | Q18: =$N$13*Q17 -> 0 | R18: =$N$13*R17 -> 0 | S18: =$S$13*S17 -> 0 | T18: =$T$13*T17 -> 0 | U18: =$T$13*U17 -> 0 | V18: =$T$13*V17 -> 0 | W18: =$T$13*W17 -> 0 | X18: =$X$13*X17 -> 0 | Y18: =$X$13*Y17 -> 0 | Z18: =$X$13*Z17 -> 0 | AA18: =$X$13*AA17 -> 0 | AB18: 610002 | AC18: =SUM(C18:AA18) -> 0
A20: Paukštiena | B20: kg | C20: =$C$13*C19 -> 0 | D20: =$C$13*D19 -> 0 | E20: =$C$13*E19 -> 0 | F20: =$F$13*F19 -> 0 | G20: =$F$13*G19 -> 0 | H20: =$F$13*H19 -> 0 | I20: =$I$13*I19 -> 0 | J20: =$I$13*J19 -> 0 | K20: =$I$13*K19 -> 0 | L20: =$I$13*L19 -> 0 | M20: =$I$13*M19 -> 0 | N20: =$N$13*N19 -> 0 | O20: =$N$13*O19 -> 0 | P20: =$N$13*P19 -> 0 | Q20: =$N$13*Q19 -> 0 | R20: =$N$13*R19 -> 0 | S20: =$S$13*S19 -> 0 | T20: =$T$13*T19 -> 0 | U20: =$T$13*U19 -> 0 | V20: =$T$13*V19 -> 0 | W20: =$T$13*W19 -> 0 | X20: =$X$13*X19 -> 0 | Y20: =$X$13*Y19 -> 0 | Z20: =$X$13*Z19 -> 0 | AA20: =$X$13*AA19 -> 0 | AB20: 610009 | AC20: =SUM(C20:AA20) -> 0
A22: Virta dešra | B22: kg | C22: =$C$13*C21 -> 0 | D22: =$C$13*D21 -> 0 | E22: =$C$13*E21 -> 0 | F22: =$F$13*F21 -> 0 | G22: =$F$13*G21 -> 0 | H22: =$F$13*H21 -> 0 | I22: =$I$13*I21 -> 0 | J22: =$I$13*J21 -> 0 | K22: =$I$13*K21 -> 0 | L22: =$I$13*L21 -> 0 | M22: =$I$13*M21 -> 0 | N22: =$N$13*N21 -> 0 | O22: =$N$13*O21 -> 0 | P22: =$N$13*P21 -> 0 | Q22: =$N$13*Q21 -> 0 | R22: =$N$13*R21 -> 0 | S22: =$S$13*S21 -> 0 | T22: =$T$13*T21 -> 0 | U22: =$T$13*U21 -> 0 | V22: =$T$13*V21 -> 0 | W22: =$T$13*W21 -> 0 | X22: =$X$13*X21 -> 0 | Y22: =$X$13*Y21 -> 0 | Z22: =$X$13*Z21 -> 0 | AA22: =$X$13*AA21 -> 0 | AB22: 610036 | AC22: =SUM(C22:AA22) -> 0
A24: Dešrelės | B24: kg | C24: =$C$13*C23 -> 0 | D24: =$C$13*D23 -> 0 | E24: =$C$13*E23 -> 0 | F24: =$F$13*F23 -> 0 | G24: =$F$13*G23 -> 0 | H24: =$F$13*H23 -> 0 | I24: =$I$13*I23 -> 0 | J24: =$I$13*J23 -> 0 | K24: =$I$13*K23 -> 0 | L24: =$I$13*L23 -> 0 | M24: =$I$13*M23 -> 0 | N24: =$N$13*N23 -> 0 | O24: =$N$13*O23 -> 0 | P24: =$N$13*P23 -> 0 | Q24: =$N$13*Q23 -> 0 | R24: =$N$13*R23 -> 0 | S24: =$S$13*S23 -> 0 | T24: =$T$13*T23 -> 0 | U24: =$T$13*U23 -> 0 | V24: =$T$13*V23 -> 0 | W24: =$T$13*W23 -> 0 | X24: =$X$13*X23 -> 0 | Y24: =$X$13*Y23 -> 0 | Z24: =$X$13*Z23 -> 0 | AA24: =$X$13*AA23 -> 0 | AB24: 610052 | AC24: =SUM(C24:AA24) -> 0
A26: Žuvis | B26: kg | C26: =$C$13*C25 -> 0 | D26: =$C$13*D25 -> 0 | E26: =$C$13*E25 -> 0 | F26: =$F$13*F25 -> 0 | G26: =$F$13*G25 -> 0 | H26: =$F$13*H25 -> 0 | I26: =$I$13*I25 -> 0 | J26: =$I$13*J25 -> 0 | K26: =$I$13*K25 -> 0 | L26: =$I$13*L25 -> 0 | M26: =$I$13*M25 -> 0 | N26: =$N$13*N25 -> 0 | O26: =$N$13*O25 -> 0 | P26: =$N$13*P25 -> 0 | Q26: =$N$13*Q25 -> 0 | R26: =$N$13*R25 -> 0 | S26: =$S$13*S25 -> 0 | T26: =$T$13*T25 -> 0 | U26: =$T$13*U25 -> 0 | V26: =$T$13*V25 -> 0 | W26: =$T$13*W25 -> 0 | X26: =$X$13*X25 -> 0 | Y26: =$X$13*Y25 -> 0 | Z26: =$X$13*Z25 -> 0 | AA26: =$X$13*AA25 -> 0 | AB26: 611008 | AC26: =SUM(C26:AA26) -> 0
A28: Sviestas | B28: vnt. | C28: =$C$13*C27 -> 0 | D28: =$C$13*D27 -> 0 | E28: =$C$13*E27 -> 0 | F28: =$F$13*F27 -> 0 | G28: =$F$13*G27 -> 0 | H28: =$F$13*H27 -> 0 | I28: =$I$13*I27 -> 0 | J28: =$I$13*J27 -> 0 | K28: =$I$13*K27 -> 0 | L28: =$I$13*L27 -> 0 | M28: =$I$13*M27 -> 0 | N28: =$N$13*N27 -> 0 | O28: =$N$13*O27 -> 0 | P28: =$N$13*P27 -> 0 | Q28: =$N$13*Q27 -> 0 | R28: =$N$13*R27 -> 0 | S28: =$S$13*S27 -> 0 | T28: =$T$13*T27 -> 0 | U28: =$T$13*U27 -> 0 | V28: =$T$13*V27 -> 0 | W28: =$T$13*W27 -> 0 | X28: =$X$13*X27 -> 0 | Y28: =$X$13*Y27 -> 0 | Z28: =$X$13*Z27 -> 0 | AA28: =$X$13*AA27 -> 0 | AB28: 612001 | AC28: =SUM(C28:AA28) -> 0
A30: Aliejus | B30: kg | C30: =$C$13*C29 -> 0 | D30: =$C$13*D29 -> 0 | E30: =$C$13*E29 -> 0 | F30: =$F$13*F29 -> 0 | G30: =$F$13*G29 -> 0 | H30: =$F$13*H29 -> 0 | I30: =$I$13*I29 -> 0 | J30: =$I$13*J29 -> 0 | K30: =$I$13*K29 -> 0 | L30: =$I$13*L29 -> 0 | M30: =$I$13*M29 -> 0 | N30: =$N$13*N29 -> 0 | O30: =$N$13*O29 -> 0 | P30: =$N$13*P29 -> 0 | Q30: =$N$13*Q29 -> 0 | R30: =$N$13*R29 -> 0 | S30: =$S$13*S29 -> 0 | T30: =$T$13*T29 -> 0 | U30: =$T$13*U29 -> 0 | V30: =$T$13*V29 -> 0 | W30: =$T$13*W29 -> 0 | X30: =$X$13*X29 -> 0 | Y30: =$X$13*Y29 -> 0 | Z30: =$X$13*Z29 -> 0 | AA30: =$X$13*AA29 -> 0 | AB30: 612025 | AC30: =SUM(C30:AA30) -> 0
A32: Pienas | B32: kg | C32: =$C$13*C31 -> 0 | D32: =$C$13*D31 -> 0 | E32: =$C$13*E31 -> 0 | F32: =$F$13*F31 -> 0 | G32: =$F$13*G31 -> 0 | H32: =$F$13*H31 -> 0 | I32: =$I$13*I31 -> 0 | J32: =$I$13*J31 -> 0 | K32: =$I$13*K31 -> 0 | L32: =$I$13*L31 -> 0 | M32: =$I$13*M31 -> 0 | N32: =$N$13*N31 -> 0 | O32: =$N$13*O31 -> 0 | P32: =$N$13*P31 -> 0 | Q32: =$N$13*Q31 -> 0 | R32: =$N$13*R31 -> 0 | S32: =$S$13*S31 -> 0 | T32: =$T$13*T31 -> 0 | U32: =$T$13*U31 -> 0 | V32: =$T$13*V31 -> 0 | W32: =$T$13*W31 -> 0 | X32: =$X$13*X31 -> 0 | Y32: =$X$13*Y31 -> 0 | Z32: =$X$13*Z31 -> 0 | AA32: =$X$13*AA31 -> 0 | AB32: 612036 | AC32: =SUM(C32:AA32) -> 0
A34: Kond. pienas | B34: kg | C34: =$C$13*C33 -> 0 | D34: =$C$13*D33 -> 0 | E34: =$C$13*E33 -> 0 | F34: =$F$13*F33 -> 0 | G34: =$F$13*G33 -> 0 | H34: =$F$13*H33 -> 0 | I34: =$I$13*I33 -> 0 | J34: =$I$13*J33 -> 0 | K34: =$I$13*K33 -> 0 | L34: =$I$13*L33 -> 0 | M34: =$I$13*M33 -> 0 | N34: =$N$13*N33 -> 0 | O34: =$N$13*O33 -> 0 | P34: =$N$13*P33 -> 0 | Q34: =$N$13*Q33 -> 0 | R34: =$N$13*R33 -> 0 | S34: =$S$13*S33 -> 0 | T34: =$T$13*T33 -> 0 | U34: =$T$13*U33 -> 0 | V34: =$T$13*V33 -> 0 | W34: =$T$13*W33 -> 0 | X34: =$X$13*X33 -> 0 | Y34: =$X$13*Y33 -> 0 | Z34: =$X$13*Z33 -> 0 | AA34: =$X$13*AA33 -> 0 | AB34: 612044 | AC34: =SUM(C34:AA34) -> 0
A36: Jogurtas | B36: kg | C36: =$C$13*C35 -> 0 | D36: =$C$13*D35 -> 0 | E36: =$C$13*E35 -> 0 | F36: =$F$13*F35 -> 0 | G36: =$F$13*G35 -> 0 | H36: =$F$13*H35 -> 0 | I36: =$I$13*I35 -> 0 | J36: =$I$13*J35 -> 0 | K36: =$I$13*K35 -> 0 | L36: =$I$13*L35 -> 0 | M36: =$I$13*M35 -> 0 | N36: =$N$13*N35 -> 0 | O36: =$N$13*O35 -> 0 | P36: =$N$13*P35 -> 0 | Q36: =$N$13*Q35 -> 0 | R36: =$N$13*R35 -> 0 | S36: =$S$13*S35 -> 0 | T36: =$T$13*T35 -> 0 | U36: =$T$13*U35 -> 0 | V36: =$T$13*V35 -> 0 | W36: =$T$13*W35 -> 0 | X36: =$X$13*X35 -> 0 | Y36: =$X$13*Y35 -> 0 | Z36: =$X$13*Z35 -> 0 | AA36: =$X$13*AA35 -> 0 | AB36: 612050 | AC36: =SUM(C36:AA36) -> 0
A38: Kefyras | B38: kg | C38: =$C$13*C37 -> 0 | D38: =$C$13*D37 -> 0 | E38: =$C$13*E37 -> 0 | F38: =$F$13*F37 -> 0 | G38: =$F$13*G37 -> 0 | H38: =$F$13*H37 -> 0 | I38: =$I$13*I37 -> 0 | J38: =$I$13*J37 -> 0 | K38: =$I$13*K37 -> 0 | L38: =$I$13*L37 -> 0 | M38: =$I$13*M37 -> 0 | N38: =$N$13*N37 -> 0 | O38: =$N$13*O37 -> 0 | P38: =$N$13*P37 -> 0 | Q38: =$N$13*Q37 -> 0 | R38: =$N$13*R37 -> 0 | S38: =$S$13*S37 -> 0 | T38: =$T$13*T37 -> 0 | U38: =$T$13*U37 -> 0 | V38: =$T$13*V37 -> 0 | W38: =$T$13*W37 -> 0 | X38: =$X$13*X37 -> 0 | Y38: =$X$13*Y37 -> 0 | Z38: =$X$13*Z37 -> 0 | AA38: =$X$13*AA37 -> 0 | AB38: 612053 | AC38: =SUM(C38:AA38) -> 0
... A60: Kvietinės kr. | B60: kg | C60: =$C$13*C59 -> 0 | D60: =$C$13*D59 -> 0 | E60: =$C$13*E59 -> 0 | F60: =$F$13*F59 -> 0 | G60: =$F$13*G59 -> 0 | H60: =$F$13*H59 -> 0 | I60: =$I$13*I59 -> 0 | J60: =$I$13*J59 -> 0 | K60: =$I$13*K59 -> 0 | L60: =$I$13*L59 -> 0 | M60: =$I$13*M59 -> 0 | N60: =$N$13*N59 -> 0 | O60: =$N$13*O59 -> 0 | P60: =$N$13*P59 -> 0 | Q60: =$N$13*Q59 -> 0 | R60: =$N$13*R59 -> 0 | S60: =$S$13*S59 -> 0 | T60: =$T$13*T59 -> 0 | U60: =$T$13*U59 -> 0 | V60: =$T$13*V59 -> 0 | W60: =$T$13*W59 -> 0 | X60: =$X$13*X59 -> 0 | Y60: =$X$13*Y59 -> 0 | Z60: =$X$13*Z59 -> 0 | AA60: =$X$13*AA59 -> 0 | AB60: 613033 | AC60: =SUM(C60:AA60) -> 0
A62: Perlinės kr. | C62: =$C$13*C61 -> 0 | D62: =$C$13*D61 -> 0 | E62: =$C$13*E61 -> 0 | F62: =$F$13*F61 -> 0 | G62: =$F$13*G61 -> 0 | H62: =$F$13*H61 -> 0 | I62: =$I$13*I61 -> 0 | J62: =$I$13*J61 -> 0 | K62: =$I$13*K61 -> 0 | L62: =$I$13*L61 -> 0 | M62: =$I$13*M61 -> 0 | N62: =$N$13*N61 -> 0 | O62: =$N$13*O61 -> 0 | P62: =$N$13*P61 -> 0 | Q62: =$N$13*Q61 -> 0 | R62: =$N$13*R61 -> 0 | S62: =$S$13*S61 -> 0 | T62: =$T$13*T61 -> 0 | U62: =$T$13*U61 -> 0 | V62: =$T$13*V61 -> 0 | W62: =$T$13*W61 -> 0 | X62: =$X$13*X61 -> 0 | Y62: =$X$13*Y61 -> 0 | Z62: =$X$13*Z61 -> 0 | AA62: =$X$13*AA61 -> 0 | AB62: 613034 | AC62: =SUM(C62:AA62) -> 0
A64: Ryžių kr. | B64: kg | C64: =$C$13*C62 -> 0 | D64: =$C$13*D62 -> 0 | E64: =$C$13*E62 -> 0 | F64: =$F$13*F62 -> 0 | G64: =$F$13*G62 -> 0 | H64: =$F$13*H62 -> 0 | I64: =$I$13*I62 -> 0 | J64: =$I$13*J62 -> 0 | K64: =$I$13*K62 -> 0 | L64: =$I$13*L62 -> 0 | M64: =$I$13*M62 -> 0 | N64: =$N$13*N62 -> 0 | O64: =$N$13*O62 -> 0 | P64: =$N$13*P62 -> 0 | Q64: =$N$13*Q62 -> 0 | R64: =$N$13*R62 -> 0 | S64: =$S$13*S62 -> 0 | T64: =$T$13*T62 -> 0 | U64: =$T$13*U62 -> 0 | V64: =$T$13*V62 -> 0 | W64: =$T$13*W62 -> 0 | X64: =$X$13*X62 -> 0 | Y64: =$X$13*Y62 -> 0 | Z64: =$X$13*Z62 -> 0 | AA64: =$X$13*AA62 -> 0 | AB64: 613041 | AC64: =SUM(C64:AA64) -> 0
A66: Makaronai | B66: kg | C66: =$C$13*C65 -> 0 | D66: =$C$13*D65 -> 0 | E66: =$C$13*E65 -> 0 | F66: =$F$13*F65 -> 0 | G66: =$F$13*G65 -> 0 | H66: =$F$13*H65 -> 0 | I66: =$I$13*I65 -> 0 | J66: =$I$13*J65 -> 0 | K66: =$I$13*K65 -> 0 | L66: =$I$13*L65 -> 0 | M66: =$I$13*M65 -> 0 | N66: =$N$13*N65 -> 0 | O66: =$N$13*O65 -> 0 | P66: =$N$13*P65 -> 0 | Q66: =$N$13*Q65 -> 0 | R66: =$N$13*R65 -> 0 | S66: =$S$13*S65 -> 0 | T66: =$T$13*T65 -> 0 | U66: =$T$13*U65 -> 0 | V66: =$T$13*V65 -> 0 | W66: =$T$13*W65 -> 0 | X66: =$X$13*X65 -> 0 | Y66: =$X$13*Y65 -> 0 | Z66: =$X$13*Z65 -> 0 | AA66: =$X$13*AA65 -> 0 | AB66: 613052 | AC66: =SUM(C66:AA66) -> 0
A68: Avižiniai dr. | B68: kg | C68: =$C$13*C67 -> 0 | D68: =$C$13*D67 -> 0 | E68: =$C$13*E67 -> 0 | F68: =$F$13*F67 -> 0 | G68: =$F$13*G67 -> 0 | H68: =$F$13*H67 -> 0 | I68: =$I$13*I67 -> 0 | J68: =$I$13*J67 -> 0 | K68: =$I$13*K67 -> 0 | L68: =$I$13*L67 -> 0 | M68: =$I$13*M67 -> 0 | N68: =$N$13*N67 -> 0 | O68: =$N$13*O67 -> 0 | P68: =$N$13*P67 -> 0 | Q68: =$N$13*Q67 -> 0 | R68: =$N$13*R67 -> 0 | S68: =$S$13*S67 -> 0 | T68: =$T$13*T67 -> 0 | U68: =$T$13*U67 -> 0 | V68: =$T$13*V67 -> 0 | W68: =$T$13*W67 -> 0 | X68: =$X$13*X67 -> 0 | Y68: =$X$13*Y67 -> 0 | Z68: =$X$13*Z67 -> 0 | AA68: =$X$13*AA67 -> 0 | AB68: 613066 | AC68: =SUM(C68:AA68) -> 0
A70: Sausi pusryciai | B70: kg | C70: =$C$13*C69 -> 0 | D70: =$C$13*D69 -> 0 | E70: =$C$13*E69 -> 0 | F70: =$F$13*F69 -> 0 | G70: =$F$13*G69 -> 0 | H70: =$F$13*H69 -> 0 | I70: =$I$13*I69 -> 0 | J70: =$I$13*J69 -> 0 | K70: =$I$13*K69 -> 0 | L70: =$I$13*L69 -> 0 | M70: =$I$13*M69 -> 0 | N70: =$N$13*N69 -> 0 | O70: =$N$13*O69 -> 0 | P70: =$N$13*P69 -> 0 | Q70: =$N$13*Q69 -> 0 | R70: =$N$13*R69 -> 0 | S70: =$S$13*S69 -> 0 | T70: =$T$13*T69 -> 0 | U70: =$T$13*U69 -> 0 | V70: =$T$13*V69 -> 0 | W70: =$T$13*W69 -> 0 | X70: =$X$13*X69 -> 0 | Y70: =$X$13*Y69 -> 0 | Z70: =$X$13*Z69 -> 0 | AA70: =$X$13*AA69 -> 0 | AB70: 613069 | AC70: =SUM(C70:AA70) -> 0
A72: Žirnių kr. | B72: kg | C72: =$C$13*C71 -> 0 | D72: =$C$13*D71 -> 0 | E72: =$C$13*E71 -> 0 | F72: =$F$13*F71 -> 0 | G72: =$F$13*G71 -> 0 | H72: =$F$13*H71 -> 0 | I72: =$I$13*I71 -> 0 | J72: =$I$13*J71 -> 0 | K72: =$I$13*K71 -> 0 | L72: =$I$13*L71 -> 0 | M72: =$I$13*M71 -> 0 | N72: =$N$13*N71 -> 0 | O72: =$N$13*O71 -> 0 | P72: =$N$13*P71 -> 0 | Q72: =$N$13*Q71 -> 0 | R72: =$N$13*R71 -> 0 | S72: =$S$13*S71 -> 0 | T72: =$T$13*T71 -> 0 | U72: =$T$13*U71 -> 0 | V72: =$T$13*V71 -> 0 | W72: =$T$13*W71 -> 0 | X72: =$X$13*X71 -> 0 | Y72: =$X$13*Y71 -> 0 | Z72: =$X$13*Z71 -> 0 | AA72: =$X$13*AA71 -> 0 | AB72: 613072 | AC72: =SUM(C72:AA72) -> 0
A74: Pupelės | B74: kg | C74: =$C$13*C73 -> 0 | D74: =$C$13*D73 -> 0 | E74: =$C$13*E73 -> 0 | F74: =$F$13*F73 -> 0 | G74: =$F$13*G73 -> 0 | H74: =$F$13*H73 -> 0 | I74: =$I$13*I73 -> 0 | J74: =$I$13*J73 -> 0 | K74: =$I$13*K73 -> 0 | L74: =$I$13*L73 -> 0 | M74: =$I$13*M73 -> 0 | N74: =$N$13*N73 -> 0 | O74: =$N$13*O73 -> 0 | P74: =$N$13*P73 -> 0 | Q74: =$N$13*Q73 -> 0 | R74: =$N$13*R73 -> 0 | S74: =$S$13*S73 -> 0 | T74: =$T$13*T73 -> 0 | U74: =$T$13*U73 -> 0 | V74: =$T$13*V73 -> 0 | W74: =$T$13*W73 -> 0 | X74: =$X$13*X73 -> 0 | Y74: =$X$13*Y73 -> 0 | Z74: =$X$13*Z73 -> 0 | AA74: =$X$13*AA73 -> 0 | AB74: 613074 | AC74: =SUM(C74:AA74) -> 0
A76: Cukrus | B76: kg | C76: =$C$13*C75 -> 0 | D76: =$C$13*D75 -> 0 | E76: =$C$13*E75 -> 0 | F76: =$F$13*F75 -> 0 | G76: =$F$13*G75 -> 0 | H76: =$F$13*H75 -> 0 | I76: =$I$13*I75 -> 0 | J76: =$I$13*J75 -> 0 | K76: =$I$13*K75 -> 0 | L76: =$I$13*L75 -> 0 | M76: =$I$13*M75 -> 0 | N76: =$N$13*N75 -> 0 | O76: =$N$13*O75 -> 0 | P76: =$N$13*P75 -> 0 | Q76: =$N$13*Q75 -> 0 | R76: =$N$13*R75 -> 0 | S76: =$S$13*S75 -> 0 | T76: =$T$13*T75 -> 0 | U76: =$T$13*U75 -> 0 | V76: =$T$13*V75 -> 0 | W76: =$T$13*W75 -> 0 | X76: =$X$13*X75 -> 0 | Y76: =$X$13*Y75 -> 0 | Z76: =$X$13*Z75 -> 0 | AA76: =$X$13*AA75 -> 0 | AB76: 614002 | AC76: =SUM(C76:AA76) -> 0
A78: Kompotas | B78: kg | C78: =$C$13*C77 -> 0 | D78: =$C$13*D77 -> 0 | E78: =$C$13*E77 -> 0 | F78: =$F$13*F77 -> 0 | G78: =$F$13*G77 -> 0 | H78: =$F$13*H77 -> 0 | I78: =$I$13*I77 -> 0 | J78: =$I$13*J77 -> 0 | K78: =$I$13*K77 -> 0 | L78: =$I$13*L77 -> 0 | M78: =$I$13*M77 -> 0 | N78: =$N$13*N77 -> 0 | O78: =$N$13*O77 -> 0 | P78: =$N$13*P77 -> 0 | Q78: =$N$13*Q77 -> 0 | R78: =$N$13*R77 -> 0 | S78: =$S$13*S77 -> 0 | T78: =$T$13*T77 -> 0 | U78: =$T$13*U77 -> 0 | V78: =$T$13*V77 -> 0 | W78: =$T$13*W77 -> 0 | X78: =$X$13*X77 -> 0 | Y78: =$X$13*Y77 -> 0 | Z78: =$X$13*Z77 -> 0 | AA78: =$X$13*AA77 -> 0 | AB78: 614021 | AC78: =SUM(C78:AA78) -> 0
A80: Medus | B80: kg | C80: =$C$13*C79 -> 0 | D80: =$C$13*D79 -> 0 | E80: =$C$13*E79 -> 0 | F80: =$F$13*F79 -> 0 | G80: =$F$13*G79 -> 0 | H80: =$F$13*H79 -> 0 | I80: =$I$13*I79 -> 0 | J80: =$I$13*J79 -> 0 | K80: =$I$13*K79 -> 0 | L80: =$I$13*L79 -> 0 | M80: =$I$13*M79 -> 0 | N80: =$N$13*N79 -> 0 | O80: =$N$13*O79 -> 0 | P80: =$N$13*P79 -> 0 | Q80: =$N$13*Q79 -> 0 | R80: =$N$13*R79 -> 0 | S80: =$S$13*S79 -> 0 | T80: =$T$13*T79 -> 0 | U80: =$T$13*U79 -> 0 | V80: =$T$13*V79 -> 0 | W80: =$T$13*W79 -> 0 | X80: =$X$13*X79 -> 0 | Y80: =$X$13*Y79 -> 0 | Z80: =$X$13*Z79 -> 0 | AA80: =$X$13*AA79 -> 0 | AB80: 614022 | AC80: =SUM(C80:AA80) -> 0
A82: Marmeladas, uogienė | B82: kg | C82: =$C$13*C81 -> 0 | D82: =$C$13*D81 -> 0 | E82: =$C$13*E81 -> 0 | F82: =$F$13*F81 -> 0 | G82: =$F$13*G81 -> 0 | H82: =$F$13*H81 -> 0 | I82: =$I$13*I81 -> 0 | J82: =$I$13*J81 -> 0 | K82: =$I$13*K81 -> 0 | L82: =$I$13*L81 -> 0 | M82: =$I$13*M81 -> 0 | N82: =$N$13*N81 -> 0 | O82: =$N$13*O81 -> 0 | P82: =$N$13*P81 -> 0 | Q82: =$N$13*Q81 -> 0 | R82: =$N$13*R81 -> 0 | S82: =$S$13*S81 -> 0 | T82: =$T$13*T81 -> 0 | U82: =$T$13*U81 -> 0 | V82: =$T$13*V81 -> 0 | W82: =$T$13*W81 -> 0 | X82: =$X$13*X81 -> 0 | Y82: =$X$13*Y81 -> 0 | Z82: =$X$13*Z81 -> 0 | AA82: =$X$13*AA81 -> 0 | AB82: 614024 | AC82: =SUM(C82:AA82) -> 0
A84: Sausainiai | B84: kg | C84: =$C$13*C83 -> 0 | D84: =$C$13*D83 -> 0 | E84: =$C$13*E83 -> 0 | F84: =$F$13*F83 -> 0 | G84: =$F$13*G83 -> 0 | H84: =$F$13*H83 -> 0 | I84: =$I$13*I83 -> 0 | J84: =$I$13*J83 -> 0 | K84: =$I$13*K83 -> 0 | L84: =$I$13*L83 -> 0 | M84: =$I$13*M83 -> 0 | N84: =$N$13*N83 -> 0 | O84: =$N$13*O83 -> 0 | P84: =$N$13*P83 -> 0 | Q84: =$N$13*Q83 -> 0 | R84: =$N$13*R83 -> 0 | S84: =$S$13*S83 -> 0 | T84: =$T$13*T83 -> 0 | U84: =$T$13*U83 -> 0 | V84: =$T$13*V83 -> 0 | W84: =$T$13*W83 -> 0 | X84: =$X$13*X83 -> 0 | Y84: =$X$13*Y83 -> 0 | Z84: =$X$13*Z83 -> 0 | AA84: =$X$13*AA83 -> 0 | AB84: 614074 | AC84: =SUM(C84:AA84) -> 0
A86: Zefyras | B86: kg | C86: =$C$13*C85 -> 0 | D86: =$C$13*D85 -> 0 | E86: =$C$13*E85 -> 0 | F86: =$F$13*F85 -> 0 | G86: =$F$13*G85 -> 0 | H86: =$F$13*H85 -> 0 | I86: =$I$13*I85 -> 0 | J86: =$I$13*J85 -> 0 | K86: =$I$13*K85 -> 0 | L86: =$I$13*L85 -> 0 | M86: =$I$13*M85 -> 0 | N86: =$N$13*N85 -> 0 | O86: =$N$13*O85 -> 0 | P86: =$N$13*P85 -> 0 | Q86: =$N$13*Q85 -> 0 | R86: =$N$13*R85 -> 0 | S86: =$S$13*S85 -> 0 | T86: =$T$13*T85 -> 0 | U86: =$T$13*U85 -> 0 | V86: =$T$13*V85 -> 0 | W86: =$T$13*W85 -> 0 | X86: =$X$13*X85 -> 0 | Y86: =$X$13*Y85 -> 0 | Z86: =$X$13*Z85 -> 0 | AA86: =$X$13*AA85 -> 0 | AB86: 614075 | AC86: =SUM(C86:AA86) -> 0
A88: Kivi | B88: kg | C88: =$C$13*C87 -> 0 | D88: =$C$13*D87 -> 0 | E88: =$C$13*E87 -> 0 | F88: =$F$13*F87 -> 0 | G88: =$F$13*G87 -> 0 | H88: =$F$13*H87 -> 0 | I88: =$I$13*I87 -> 0 | J88: =$I$13*J87 -> 0 | K88: =$I$13*K87 -> 0 | L88: =$I$13*L87 -> 0 | M88: =$I$13*M87 -> 0 | N88: =$N$13*N87 -> 0 | O88: =$N$13*O87 -> 0 | P88: =$N$13*P87 -> 0 | Q88: =$N$13*Q87 -> 0 | R88: =$N$13*R87 -> 0 | S88: =$S$13*S87 -> 0 | T88: =$T$13*T87 -> 0 | U88: =$T$13*U87 -> 0 | V88: =$T$13*V87 -> 0 | W88: =$T$13*W87 -> 0 | X88: =$X$13*X87 -> 0 | Y88: =$X$13*Y87 -> 0 | Z88: =$X$13*Z87 -> 0 | AA88: =$X$13*AA87 -> 0 | AB88: 615005 | AC88: =SUM(C88:AA88) -> 0
... A170: Citrinos rūgštis | B170: kg | C170: =$C$13*C169 -> 0 | D170: =$C$13*D169 -> 0 | E170: =$C$13*E169 -> 0 | F170: =$F$13*F169 -> 0 | G170: =$F$13*G169 -> 0 | H170: =$F$13*H169 -> 0 | I170: =$I$13*I169 -> 0 | J170: =$I$13*J169 -> 0 | K170: =$I$13*K169 -> 0 | L170: =$I$13*L169 -> 0 | M170: =$I$13*M169 -> 0 | N170: =$N$13*N169 -> 0 | O170: =$N$13*O169 -> 0 | P170: =$N$13*P169 -> 0 | Q170: =$N$13*Q169 -> 0 | R170: =$N$13*R169 -> 0 | S170: =$S$13*S169 -> 0 | T170: =$T$13*T169 -> 0 | U170: =$T$13*U169 -> 0 | V170: =$T$13*V169 -> 0 | W170: =$T$13*W169 -> 0 | X170: =$X$13*X169 -> 0 | Y170: =$X$13*Y169 -> 0 | Z170: =$X$13*Z169 -> 0 | AA170: =$X$13*AA169 -> 0 | AB170: 616053 | AC170: =SUM(C170:AA170) -> 0
B172: Dietologas Vardenis Pavardenis | I172: Produktus išdavė sandėlininkė Vardenė Pavardenė | T172: Produktus priėmė virėja Vardenė Pavardenė
